BEGIN:VCALENDAR
VERSION:2.0
PRODID:-//Aubussane - ECPv6.0.8//NONSGML v1.0//EN
CALSCALE:GREGORIAN
METHOD:PUBLISH
X-WR-CALNAME:Aubussane
X-ORIGINAL-URL:http://aubussane.com
X-WR-CALDESC:évènements pour Aubussane
REFRESH-INTERVAL;VALUE=DURATION:PT1H
X-Robots-Tag:noindex
X-PUBLISHED-TTL:PT1H
BEGIN:VTIMEZONE
TZID:Europe/Paris
BEGIN:DAYLIGHT
TZOFFSETFROM:+0100
TZOFFSETTO:+0200
TZNAME:CEST
DTSTART:20240331T010000
END:DAYLIGHT
BEGIN:STANDARD
TZOFFSETFROM:+0200
TZOFFSETTO:+0100
TZNAME:CET
DTSTART:20241027T010000
END:STANDARD
BEGIN:DAYLIGHT
TZOFFSETFROM:+0100
TZOFFSETTO:+0200
TZNAME:CEST
DTSTART:20250330T010000
END:DAYLIGHT
BEGIN:STANDARD
TZOFFSETFROM:+0200
TZOFFSETTO:+0100
TZNAME:CET
DTSTART:20251026T010000
END:STANDARD
BEGIN:DAYLIGHT
TZOFFSETFROM:+0100
TZOFFSETTO:+0200
TZNAME:CEST
DTSTART:20260329T010000
END:DAYLIGHT
BEGIN:STANDARD
TZOFFSETFROM:+0200
TZOFFSETTO:+0100
TZNAME:CET
DTSTART:20261025T010000
END:STANDARD
END:VTIMEZONE
BEGIN:VEVENT
DTSTART;TZID=Europe/Paris:20260228T093000
DTEND;TZID=Europe/Paris:20260228T150000
DTSTAMP:20260419T235801
CREATED:20251104T094836Z
LAST-MODIFIED:20251104T094836Z
UID:20846-1772271000-1772290800@aubussane.com
SUMMARY:Journée découverte de la truffe - 28 Février
DESCRIPTION:Café d’accueil\, cavage avec les chiens aux truffières avec Yoan Saunier\, nettoyage\, triage\, pesée des truffes\, menu truffé réalisé par notre cheffe Nathalie Thieblemont\, accords mets et vins.\n\n\n\n100€ par pers\, places limitées à 10 personnes \n\n\n\n\nde 9h30 à 15h.
URL:http://aubussane.com/event/journee-decouverte-de-la-truffe-28-fevrier/
LOCATION:Aubussargues\, Route de Collorgues\, Aubussargue\, Occitanie\, 30190\, France
ATTACH;FMTTYPE=image/png:http://aubussane.com/wp-content/uploads/2025/11/photo.png
ORGANIZER;CN="Nathalie%20Thi%C3%A9blemont":MAILTO:nath.thieblemont@gmail.com
END:VEVENT
BEGIN:VEVENT
DTSTART;TZID=Europe/Paris:20260224T080000
DTEND;TZID=Europe/Paris:20260224T170000
DTSTAMP:20260419T235801
CREATED:20251104T100306Z
LAST-MODIFIED:20251104T100306Z
UID:20856-1771920000-1771952400@aubussane.com
SUMMARY:Les cours de cuisine autour de la truffe - 24 février 2026
DESCRIPTION:Avec la cheffe Nathalie Thieblemont\, apprenez les bases de la cuisine à la truffe\, réalisation du repas et dégustation sur place. 80€ par personne\, place limitées à 10 personnes de 10h à 14h sur réservation.
URL:http://aubussane.com/event/les-cours-de-cuisine-autour-de-la-truffe-24-fevrier-2026/
LOCATION:Aubussargues\, Route de Collorgues\, Aubussargue\, Occitanie\, 30190\, France
ATTACH;FMTTYPE=image/png:http://aubussane.com/wp-content/uploads/2025/11/Capture-decran-2025-11-04-a-11.00.44.png
ORGANIZER;CN="Nathalie%20Thi%C3%A9blemont":MAILTO:nath.thieblemont@gmail.com
END:VEVENT
BEGIN:VEVENT
DTSTART;TZID=Europe/Paris:20260222T093000
DTEND;TZID=Europe/Paris:20260222T150000
DTSTAMP:20260419T235801
CREATED:20251104T094601Z
LAST-MODIFIED:20251104T094618Z
UID:20844-1771752600-1771772400@aubussane.com
SUMMARY:Journée découverte de la truffe - 22 Février
DESCRIPTION:Café d’accueil\, cavage avec les chiens aux truffières avec Yoan Saunier\, nettoyage\, triage\, pesée des truffes\, menu truffé réalisé par notre cheffe Nathalie Thieblemont\, accords mets et vins.\n\n\n\n100€ par pers\, places limitées à 10 personnes \n\n\n\n\nde 9h30 à 15h.
URL:http://aubussane.com/event/journee-decouverte-de-la-truffe-22-fevrier-2/
LOCATION:Aubussargues\, Route de Collorgues\, Aubussargue\, Occitanie\, 30190\, France
ATTACH;FMTTYPE=image/png:http://aubussane.com/wp-content/uploads/2025/11/photo.png
ORGANIZER;CN="Nathalie%20Thi%C3%A9blemont":MAILTO:nath.thieblemont@gmail.com
END:VEVENT
BEGIN:VEVENT
DTSTART;TZID=Europe/Paris:20260221T093000
DTEND;TZID=Europe/Paris:20260221T150000
DTSTAMP:20260419T235801
CREATED:20251104T094456Z
LAST-MODIFIED:20251104T094456Z
UID:20842-1771666200-1771686000@aubussane.com
SUMMARY:Journée découverte de la truffe - 21 Février
DESCRIPTION:Café d’accueil\, cavage avec les chiens aux truffières avec Yoan Saunier\, nettoyage\, triage\, pesée des truffes\, menu truffé réalisé par notre cheffe Nathalie Thieblemont\, accords mets et vins.\n\n\n\n100€ par pers\, places limitées à 10 personnes \n\n\n\n\nde 9h30 à 15h.
URL:http://aubussane.com/event/journee-decouverte-de-la-truffe-21-fevrier-2/
LOCATION:Aubussargues\, Route de Collorgues\, Aubussargue\, Occitanie\, 30190\, France
ATTACH;FMTTYPE=image/png:http://aubussane.com/wp-content/uploads/2025/11/photo.png
ORGANIZER;CN="Nathalie%20Thi%C3%A9blemont":MAILTO:nath.thieblemont@gmail.com
END:VEVENT
BEGIN:VEVENT
DTSTART;TZID=Europe/Paris:20260214T093000
DTEND;TZID=Europe/Paris:20260214T150000
DTSTAMP:20260419T235801
CREATED:20251104T094322Z
LAST-MODIFIED:20251104T094322Z
UID:20840-1771061400-1771081200@aubussane.com
SUMMARY:Journée découverte de la truffe - 14 Février
DESCRIPTION:Café d’accueil\, cavage avec les chiens aux truffières avec Yoan Saunier\, nettoyage\, triage\, pesée des truffes\, menu truffé réalisé par notre cheffe Nathalie Thieblemont\, accords mets et vins.\n\n\n\n100€ par pers\, places limitées à 10 personnes \n\n\n\n\nde 9h30 à 15h.
URL:http://aubussane.com/event/journee-decouverte-de-la-truffe-14-fevrier-2/
LOCATION:Aubussargues\, Route de Collorgues\, Aubussargue\, Occitanie\, 30190\, France
ATTACH;FMTTYPE=image/png:http://aubussane.com/wp-content/uploads/2025/11/photo.png
ORGANIZER;CN="Nathalie%20Thi%C3%A9blemont":MAILTO:nath.thieblemont@gmail.com
END:VEVENT
BEGIN:VEVENT
DTSTART;TZID=Europe/Paris:20260208T080000
DTEND;TZID=Europe/Paris:20260208T170000
DTSTAMP:20260419T235801
CREATED:20251104T093958Z
LAST-MODIFIED:20251104T093958Z
UID:20836-1770537600-1770570000@aubussane.com
SUMMARY:Journée découverte de la truffe - 8 Février
DESCRIPTION:Café d’accueil\, cavage avec les chiens aux truffières avec Yoan Saunier\, nettoyage\, triage\, pesée des truffes\, menu truffé réalisé par notre cheffe Nathalie Thieblemont\, accords mets et vins.\n\n\n\n100€ par pers\, places limitées à 10 personnes \n\n\n\n\nde 9h30 à 15h.
URL:http://aubussane.com/event/journee-decouverte-de-la-truffe-8-fevrier-3/
LOCATION:Aubussargues\, Route de Collorgues\, Aubussargue\, Occitanie\, 30190\, France
ATTACH;FMTTYPE=image/png:http://aubussane.com/wp-content/uploads/2025/11/photo.png
ORGANIZER;CN="Nathalie%20Thi%C3%A9blemont":MAILTO:nath.thieblemont@gmail.com
END:VEVENT
BEGIN:VEVENT
DTSTART;TZID=Europe/Paris:20260207T093000
DTEND;TZID=Europe/Paris:20260207T150000
DTSTAMP:20260419T235801
CREATED:20251104T093844Z
LAST-MODIFIED:20251104T093844Z
UID:20834-1770456600-1770476400@aubussane.com
SUMMARY:Journée découverte de la truffe - 7 Février
DESCRIPTION:Café d’accueil\, cavage avec les chiens aux truffières avec Yoan Saunier\, nettoyage\, triage\, pesée des truffes\, menu truffé réalisé par notre cheffe Nathalie Thieblemont\, accords mets et vins.\n\n\n\n100€ par pers\, places limitées à 10 personnes \n\n\n\n\nde 9h30 à 15h.
URL:http://aubussane.com/event/journee-decouverte-de-la-truffe-7-fevrier/
LOCATION:Aubussargues\, Route de Collorgues\, Aubussargue\, Occitanie\, 30190\, France
ATTACH;FMTTYPE=image/png:http://aubussane.com/wp-content/uploads/2025/11/photo.png
ORGANIZER;CN="Nathalie%20Thi%C3%A9blemont":MAILTO:nath.thieblemont@gmail.com
END:VEVENT
BEGIN:VEVENT
DTSTART;TZID=Europe/Paris:20260201T100000
DTEND;TZID=Europe/Paris:20260201T150000
DTSTAMP:20260419T235801
CREATED:20251104T095622Z
LAST-MODIFIED:20251104T095705Z
UID:20848-1769940000-1769958000@aubussane.com
SUMMARY:Balade gourmande truffée - 1er février 2026
DESCRIPTION:Dimanche 1er février\nRDV 10h à Aubuss’âne\nPetite randonnée “découverte de notre domaine”\nRepas champêtre sous barnum\n\nAu menu : Brouillade à la Truffe noire et son accompagnement\, fromage\, dessert truffé et boissons. \n50€ / personne tout compris \nPlaces limitées à 50 pers\, sur réservation.
URL:http://aubussane.com/event/balade-gourmande-truffee/
LOCATION:Aubussargues\, Route de Collorgues\, Aubussargue\, Occitanie\, 30190\, France
ATTACH;FMTTYPE=image/png:http://aubussane.com/wp-content/uploads/2025/11/Capture-decran-2025-11-04-a-10.52.49.png
ORGANIZER;CN="Nathalie%20Thi%C3%A9blemont":MAILTO:nath.thieblemont@gmail.com
END:VEVENT
BEGIN:VEVENT
DTSTART;TZID=Europe/Paris:20260124T093000
DTEND;TZID=Europe/Paris:20260124T150000
DTSTAMP:20260419T235801
CREATED:20251104T093553Z
LAST-MODIFIED:20251104T093553Z
UID:20830-1769247000-1769266800@aubussane.com
SUMMARY:Journée découverte de la truffe - 24 Janvier
DESCRIPTION:Café d’accueil\, cavage avec les chiens aux truffières avec Yoan Saunier\, nettoyage\, triage\, pesée des truffes\, menu truffé réalisé par notre cheffe Nathalie Thieblemont\, accords mets et vins.\n\n\n\n100€ par pers\, places limitées à 10 personnes \n\n\n\n\nde 9h30 à 15h.
URL:http://aubussane.com/event/journee-decouverte-de-la-truffe-24-janvier/
LOCATION:Aubussargues\, Route de Collorgues\, Aubussargue\, Occitanie\, 30190\, France
ATTACH;FMTTYPE=image/png:http://aubussane.com/wp-content/uploads/2025/11/photo.png
ORGANIZER;CN="Nathalie%20Thi%C3%A9blemont":MAILTO:nath.thieblemont@gmail.com
END:VEVENT
BEGIN:VEVENT
DTSTART;TZID=Europe/Paris:20260119T080000
DTEND;TZID=Europe/Paris:20260119T170000
DTSTAMP:20260419T235801
CREATED:20251104T100329Z
LAST-MODIFIED:20251104T100329Z
UID:20855-1768809600-1768842000@aubussane.com
SUMMARY:Les cours de cuisine autour de la truffe - 19 janvier 2026
DESCRIPTION:Avec la cheffe Nathalie Thieblemont\, apprenez les bases de la cuisine à la truffe\, réalisation du repas et dégustation sur place. 80€ par personne\, place limitées à 10 personnes de 10h à 14h sur réservation.
URL:http://aubussane.com/event/les-cours-de-cuisine-autour-de-la-truffe-19-janvier-2026/
LOCATION:Aubussargues\, Route de Collorgues\, Aubussargue\, Occitanie\, 30190\, France
ATTACH;FMTTYPE=image/png:http://aubussane.com/wp-content/uploads/2025/11/Capture-decran-2025-11-04-a-11.00.44.png
ORGANIZER;CN="Nathalie%20Thi%C3%A9blemont":MAILTO:nath.thieblemont@gmail.com
END:VEVENT
BEGIN:VEVENT
DTSTART;TZID=Europe/Paris:20260117T093000
DTEND;TZID=Europe/Paris:20260117T150000
DTSTAMP:20260419T235801
CREATED:20251104T093429Z
LAST-MODIFIED:20251104T093442Z
UID:20826-1768642200-1768662000@aubussane.com
SUMMARY:Journée découverte de la truffe - 17 Janvier
DESCRIPTION:Café d’accueil\, cavage avec les chiens aux truffières avec Yoan Saunier\, nettoyage\, triage\, pesée des truffes\, menu truffé réalisé par notre cheffe Nathalie Thieblemont\, accords mets et vins.\n\n\n\n  \n100€ par pers\, places limitées à 10 personnes \n\n\n\n\nde 9h30 à 15h.
URL:http://aubussane.com/event/journee-decouverte-de-la-truffe-17-janvier/
LOCATION:Aubussargues\, Route de Collorgues\, Aubussargue\, Occitanie\, 30190\, France
ATTACH;FMTTYPE=image/png:http://aubussane.com/wp-content/uploads/2025/11/photo.png
ORGANIZER;CN="Nathalie%20Thi%C3%A9blemont":MAILTO:nath.thieblemont@gmail.com
END:VEVENT
BEGIN:VEVENT
DTSTART;TZID=Europe/Paris:20260116T093000
DTEND;TZID=Europe/Paris:20260116T150000
DTSTAMP:20260419T235801
CREATED:20251104T093230Z
LAST-MODIFIED:20251104T093339Z
UID:20822-1768555800-1768575600@aubussane.com
SUMMARY:Journée découverte de la truffe - 16 Janvier
DESCRIPTION:Café d’accueil\, cavage avec les chiens aux truffières avec Yoan Saunier\, nettoyage\, triage\, pesée des truffes\, menu truffé réalisé par notre cheffe Nathalie Thieblemont\, accords mets et vins.\n\n\n\n100€ par pers\, places limitées à 10 personnes \n\n\n\n\nde 9h30 à 15h.
URL:http://aubussane.com/event/journee-decouverte-de-la-truffe-16-janvier/
LOCATION:Aubussargues\, Route de Collorgues\, Aubussargue\, Occitanie\, 30190\, France
ATTACH;FMTTYPE=image/png:http://aubussane.com/wp-content/uploads/2025/11/photo.png
ORGANIZER;CN="Nathalie%20Thi%C3%A9blemont":MAILTO:nath.thieblemont@gmail.com
END:VEVENT
BEGIN:VEVENT
DTSTART;TZID=Europe/Paris:20251217T100000
DTEND;TZID=Europe/Paris:20251217T140000
DTSTAMP:20260419T235801
CREATED:20251104T100059Z
LAST-MODIFIED:20251104T100059Z
UID:20852-1765965600-1765980000@aubussane.com
SUMMARY:Les cours de cuisine autour de la truffe - 17 décembre 2025
DESCRIPTION:Avec la cheffe Nathalie Thieblemont\, apprenez les bases de la cuisine à la truffe\, réalisation du repas et dégustation sur place. 80€ par personne\, place limitées à 10 personnes de 10h à 14h sur réservation.
URL:http://aubussane.com/event/les-cours-de-cuisine-autour-de-la-truffe-17-decembre-2025/
LOCATION:Aubussargues\, Route de Collorgues\, Aubussargue\, Occitanie\, 30190\, France
ATTACH;FMTTYPE=image/png:http://aubussane.com/wp-content/uploads/2025/11/Capture-decran-2025-11-04-a-11.00.44.png
ORGANIZER;CN="Nathalie%20Thi%C3%A9blemont":MAILTO:nath.thieblemont@gmail.com
END:VEVENT
BEGIN:VEVENT
DTSTART;TZID=Europe/Paris:20251207T110000
DTEND;TZID=Europe/Paris:20251207T180000
DTSTAMP:20260419T235801
CREATED:20251104T092618Z
LAST-MODIFIED:20251104T100716Z
UID:20821-1765105200-1765130400@aubussane.com
SUMMARY:Marché de Nöel 7 décembre 2025
DESCRIPTION:Le marché de Noel à Aubuss’âne le 7 décembre 2025 de 11h à 18h. \nMenu 25€\nsur réservation \n\nCappuccino potiron et truffe\nSaucisse & Lentilles\nEntremet châtaigne et truffe\n1 verre de vin et café (enfant – 12 ans 15€ )\n\nRENCONTREZ NOS PRODUCTEURS ET DÉCOUVREZ LEURS SPÉCIALITÉS \n\nProduits de la Châtaigneraie par Matthias Cornevaux – 48 Pont de Montvert\nViandes et fromages de chèvre par Stéphane Pareyre – 48 St Pierre de Nogaret\nFleurs comestibles\, miel et tisanes concoctées par Elsa Osty – 30 Aubussargues\nVins élaborés par Olivier Galant – 30 Aubussargues\nPains et viennoiseries bio par Du Soleil et du Pain – 30 Uzès\nHuile olive\, olive fraiche\, tapenade et truffe par Yoan Saunier – 30 Aubussargues\nVins d’apéritif élaborés par La cave de mon père – 30 Arpaillargues\nLentilles verte de Lozère par Gaec Toiron nadine et Nicolas – 48 Belvezet
URL:http://aubussane.com/event/marche-de-noel-7-decembre-2025/
LOCATION:Aubussargues\, Route de Collorgues\, Aubussargue\, Occitanie\, 30190\, France
ATTACH;FMTTYPE=image/png:http://aubussane.com/wp-content/uploads/2025/11/Capture-decran-2025-11-04-a-11.04.16.png
ORGANIZER;CN="Yoan%20SAUNIER":MAILTO:yoan.saunier@orange.fr
END:VEVENT
BEGIN:VEVENT
DTSTART;TZID=Europe/Paris:20250301T080000
DTEND;TZID=Europe/Paris:20250301T170000
DTSTAMP:20260419T235801
CREATED:20241123T180427Z
LAST-MODIFIED:20241123T180427Z
UID:20795-1740816000-1740848400@aubussane.com
SUMMARY:Journée découverte de la truffe - 1 mars
DESCRIPTION:Café d’accueil\, cavage avec les chiens aux truffières avec Yoan Saunier\, nettoyage\, triage\, pesée des truffes\, menu truffé réalisé par notre cheffe Nathalie Thiéblemont\, accords mets et vins.
URL:http://aubussane.com/event/journee-decouverte-de-la-truffe-1-mars/
LOCATION:Aubussargues\, Route de Collorgues\, Aubussargue\, Occitanie\, 30190\, France
ATTACH;FMTTYPE=image/png:http://aubussane.com/wp-content/uploads/2024/11/Capture-decran-2024-11-23-a-18.52.54.png
ORGANIZER;CN="Yoan%20SAUNIER":MAILTO:yoan.saunier@orange.fr
END:VEVENT
BEGIN:VEVENT
DTSTART;TZID=Europe/Paris:20250228T183000
DTEND;TZID=Europe/Paris:20250228T210000
DTSTAMP:20260419T235801
CREATED:20241123T181538Z
LAST-MODIFIED:20241123T181538Z
UID:20809-1740767400-1740776400@aubussane.com
SUMMARY:La soirée repas truffe - 28 février
DESCRIPTION:Rendez-vous à Aubuss’âne vers 18h30\, dégustation autour de la truffe noire et du vin\, des mises en bouche au dessert… \n\n\n\n\nNombre de places limité à 10 personnes.
URL:http://aubussane.com/event/la-soiree-repas-truffe-28-fevrier/
LOCATION:Aubussargues\, Route de Collorgues\, Aubussargue\, Occitanie\, 30190\, France
ATTACH;FMTTYPE=image/png:http://aubussane.com/wp-content/uploads/2024/11/Capture-decran-2024-11-23-a-19.07.04.png
ORGANIZER;CN="Yoan%20SAUNIER":MAILTO:yoan.saunier@orange.fr
END:VEVENT
BEGIN:VEVENT
DTSTART;TZID=Europe/Paris:20250222T093000
DTEND;TZID=Europe/Paris:20250222T150000
DTSTAMP:20260419T235801
CREATED:20241123T180123Z
LAST-MODIFIED:20241123T180249Z
UID:20792-1740216600-1740236400@aubussane.com
SUMMARY:Journée découverte de la truffe - 22 février
DESCRIPTION:Café d’accueil\, cavage avec les chiens aux truffières avec Yoan Saunier\, nettoyage\, triage\, pesée des truffes\, menu truffé réalisé par notre cheffe Nathalie Thiéblemont\, accords mets et vins.
URL:http://aubussane.com/event/journee-decouverte-de-la-truffe-22-fevrier/
LOCATION:Aubussargues\, Route de Collorgues\, Aubussargue\, Occitanie\, 30190\, France
ATTACH;FMTTYPE=image/png:http://aubussane.com/wp-content/uploads/2024/11/Capture-decran-2024-11-23-a-18.52.54.png
ORGANIZER;CN="Yoan%20SAUNIER":MAILTO:yoan.saunier@orange.fr
END:VEVENT
BEGIN:VEVENT
DTSTART;TZID=Europe/Paris:20250215T093000
DTEND;TZID=Europe/Paris:20250215T150000
DTSTAMP:20260419T235801
CREATED:20241123T180021Z
LAST-MODIFIED:20241123T180021Z
UID:20790-1739611800-1739631600@aubussane.com
SUMMARY:Journée découverte de la truffe - 15 février
DESCRIPTION:Café d’accueil\, cavage avec les chiens aux truffières avec Yoan Saunier\, nettoyage\, triage\, pesée des truffes\, menu truffé réalisé par notre cheffe Nathalie Thiéblemont\, accords mets et vins.
URL:http://aubussane.com/event/journee-decouverte-de-la-truffe-15-fevrier/
LOCATION:Aubussargues\, Route de Collorgues\, Aubussargue\, Occitanie\, 30190\, France
ATTACH;FMTTYPE=image/png:http://aubussane.com/wp-content/uploads/2024/11/Capture-decran-2024-11-23-a-18.52.54.png
ORGANIZER;CN="Yoan%20SAUNIER":MAILTO:yoan.saunier@orange.fr
END:VEVENT
BEGIN:VEVENT
DTSTART;TZID=Europe/Paris:20250214T093000
DTEND;TZID=Europe/Paris:20250214T150000
DTSTAMP:20260419T235801
CREATED:20251104T094102Z
LAST-MODIFIED:20251104T094102Z
UID:20838-1739525400-1739545200@aubussane.com
SUMMARY:Journée découverte de la truffe - 14 Février
DESCRIPTION:Café d’accueil\, cavage avec les chiens aux truffières avec Yoan Saunier\, nettoyage\, triage\, pesée des truffes\, menu truffé réalisé par notre cheffe Nathalie Thieblemont\, accords mets et vins.\n\n\n\n100€ par pers\, places limitées à 10 personnes \n\n\n\n\nde 9h30 à 15h.
URL:http://aubussane.com/event/journee-decouverte-de-la-truffe-14-fevrier/
LOCATION:Aubussargues\, Route de Collorgues\, Aubussargue\, Occitanie\, 30190\, France
ATTACH;FMTTYPE=image/png:http://aubussane.com/wp-content/uploads/2025/11/photo.png
ORGANIZER;CN="Nathalie%20Thi%C3%A9blemont":MAILTO:nath.thieblemont@gmail.com
END:VEVENT
BEGIN:VEVENT
DTSTART;TZID=Europe/Paris:20250207T183000
DTEND;TZID=Europe/Paris:20250207T210000
DTSTAMP:20260419T235801
CREATED:20241123T181421Z
LAST-MODIFIED:20241123T181421Z
UID:20807-1738953000-1738962000@aubussane.com
SUMMARY:La soirée repas truffe - 7 février
DESCRIPTION:Rendez-vous à Aubuss’âne vers 18h30\, dégustation autour de la truffe noire et du vin\, des mises en bouche au dessert… \n\n\n\n\nNombre de places limité à 10 personnes.
URL:http://aubussane.com/event/la-soiree-repas-truffe-7-fevrier/
LOCATION:Aubussargues\, Route de Collorgues\, Aubussargue\, Occitanie\, 30190\, France
ATTACH;FMTTYPE=image/png:http://aubussane.com/wp-content/uploads/2024/11/Capture-decran-2024-11-23-a-19.07.04.png
ORGANIZER;CN="Yoan%20SAUNIER":MAILTO:yoan.saunier@orange.fr
END:VEVENT
BEGIN:VEVENT
DTSTART;TZID=Europe/Paris:20250201T093000
DTEND;TZID=Europe/Paris:20250201T150000
DTSTAMP:20260419T235801
CREATED:20241123T175758Z
LAST-MODIFIED:20241123T175758Z
UID:20786-1738402200-1738422000@aubussane.com
SUMMARY:Journée découverte de la truffe - 1 Fevrier
DESCRIPTION:Café d’accueil\, cavage avec les chiens aux truffières avec Yoan Saunier\, nettoyage\, triage\, pesée des truffes\, menu truffé réalisé par notre cheffe Nathalie Thiéblemont\, accords mets et vins.
URL:http://aubussane.com/event/journee-decouverte-de-la-truffe-1-fevrier/
LOCATION:Aubussargues\, Route de Collorgues\, Aubussargue\, Occitanie\, 30190\, France
ATTACH;FMTTYPE=image/png:http://aubussane.com/wp-content/uploads/2024/11/Capture-decran-2024-11-23-a-18.52.54.png
ORGANIZER;CN="Yoan%20SAUNIER":MAILTO:yoan.saunier@orange.fr
END:VEVENT
BEGIN:VEVENT
DTSTART;TZID=Europe/Paris:20250131T183000
DTEND;TZID=Europe/Paris:20250131T210000
DTSTAMP:20260419T235801
CREATED:20241123T181222Z
LAST-MODIFIED:20241123T181222Z
UID:20805-1738348200-1738357200@aubussane.com
SUMMARY:La soirée repas truffe - 31 Janvier
DESCRIPTION:Rendez-vous à Aubuss’âne vers 18h30\, dégustation autour de la truffe noire et du vin\, des mises en bouche au dessert… \n\n\n\n\nNombre de places limité à 10 personnes.
URL:http://aubussane.com/event/la-soiree-repas-truffe-31-janvier/
LOCATION:Aubussargues\, Route de Collorgues\, Aubussargue\, Occitanie\, 30190\, France
ATTACH;FMTTYPE=image/png:http://aubussane.com/wp-content/uploads/2024/11/Capture-decran-2024-11-23-a-19.07.04.png
ORGANIZER;CN="Yoan%20SAUNIER":MAILTO:yoan.saunier@orange.fr
END:VEVENT
BEGIN:VEVENT
DTSTART;TZID=Europe/Paris:20250125T093000
DTEND;TZID=Europe/Paris:20250125T170000
DTSTAMP:20260419T235801
CREATED:20241123T175615Z
LAST-MODIFIED:20241123T175635Z
UID:20784-1737797400-1737824400@aubussane.com
SUMMARY:Journée découverte de la truffe - 25 Janvier
DESCRIPTION:Café d’accueil\, cavage avec les chiens aux truffières avec Yoan Saunier\, nettoyage\, triage\, pesée des truffes\, menu truffé réalisé par notre cheffe Nathalie Thiéblemont\, accords mets et vins.
URL:http://aubussane.com/event/journee-decouverte-de-la-truffe-25-janvier/
LOCATION:Aubussargues\, Route de Collorgues\, Aubussargue\, Occitanie\, 30190\, France
ATTACH;FMTTYPE=image/png:http://aubussane.com/wp-content/uploads/2024/11/Capture-decran-2024-11-23-a-18.52.54.png
ORGANIZER;CN="Yoan%20SAUNIER":MAILTO:yoan.saunier@orange.fr
END:VEVENT
BEGIN:VEVENT
DTSTART;TZID=Europe/Paris:20250124T183000
DTEND;TZID=Europe/Paris:20250124T210000
DTSTAMP:20260419T235801
CREATED:20241123T180938Z
LAST-MODIFIED:20241123T181055Z
UID:20800-1737743400-1737752400@aubussane.com
SUMMARY:La soirée repas truffe - 24 Janvier
DESCRIPTION:Rendez-vous à Aubuss’âne vers 18h30\, dégustation autour de la truffe noire et du vin\, des mises en bouche au dessert… \n\n\n\n\nNombre de places limité à 10 personnes.
URL:http://aubussane.com/event/les-soiree-repas-truffe-24-janvier/
LOCATION:Occitanie
ATTACH;FMTTYPE=image/png:http://aubussane.com/wp-content/uploads/2024/11/Capture-decran-2024-11-23-a-19.07.04.png
END:VEVENT
BEGIN:VEVENT
DTSTART;TZID=Europe/Paris:20250118T093000
DTEND;TZID=Europe/Paris:20250118T150000
DTSTAMP:20260419T235801
CREATED:20241123T175308Z
LAST-MODIFIED:20241123T175338Z
UID:20781-1737192600-1737212400@aubussane.com
SUMMARY:Journée découverte de la truffe - 18 Janvier
DESCRIPTION:Café d’accueil\, cavage avec les chiens aux truffières avec Yoan Saunier\, nettoyage\, triage\, pesée des truffes\, menu truffé réalisé par notre cheffe Nathalie Thiéblemont\, accords mets et vins.
URL:http://aubussane.com/event/journee-decouverte-de-la-truffe-18-janvier/
LOCATION:Aubussargues\, Route de Collorgues\, Aubussargue\, Occitanie\, 30190\, France
ATTACH;FMTTYPE=image/png:http://aubussane.com/wp-content/uploads/2024/11/Capture-decran-2024-11-23-a-18.52.54.png
ORGANIZER;CN="Yoan%20SAUNIER":MAILTO:yoan.saunier@orange.fr
END:VEVENT
BEGIN:VEVENT
DTSTART;TZID=Europe/Paris:20250117T183000
DTEND;TZID=Europe/Paris:20250117T210000
DTSTAMP:20260419T235801
CREATED:20241123T180830Z
LAST-MODIFIED:20241123T181102Z
UID:20797-1737138600-1737147600@aubussane.com
SUMMARY:La soirée repas truffe - 17 Janvier
DESCRIPTION:Rendez-vous à Aubuss’âne vers 18h30\, dégustation autour de la truffe noire et du vin\, des mises en bouche au dessert… \n\n\n\n\nNombre de places limité à 10 personnes.
URL:http://aubussane.com/event/les-soiree-repas-truffe-17-janvier/
LOCATION:Aubussargues\, Route de Collorgues\, Aubussargue\, Occitanie\, 30190\, France
ATTACH;FMTTYPE=image/png:http://aubussane.com/wp-content/uploads/2024/11/Capture-decran-2024-11-23-a-19.07.04.png
ORGANIZER;CN="Yoan%20SAUNIER":MAILTO:yoan.saunier@orange.fr
END:VEVENT
BEGIN:VEVENT
DTSTART;VALUE=DATE:20241208
DTEND;VALUE=DATE:20241209
DTSTAMP:20260419T235801
CREATED:20241113T101303Z
LAST-MODIFIED:20241113T102130Z
UID:20755-1733616000-1733702399@aubussane.com
SUMMARY:Marché de Nöel 8 décembre 2024
DESCRIPTION:
URL:http://aubussane.com/event/marche-de-noel-2024/
LOCATION:Aubussargues\, Route de Collorgues\, Aubussargue\, Occitanie\, 30190\, France
ATTACH;FMTTYPE=image/jpeg:http://aubussane.com/wp-content/uploads/2024/11/marchenoel2024.jpg
ORGANIZER;CN="Yoan%20SAUNIER":MAILTO:yoan.saunier@orange.fr
END:VEVENT
BEGIN:VEVENT
DTSTART;TZID=Europe/Paris:20241125T080000
DTEND;TZID=Europe/Paris:20241125T170000
DTSTAMP:20260419T235801
CREATED:20241125T083131Z
LAST-MODIFIED:20241125T083131Z
UID:20811-1732521600-1732554000@aubussane.com
SUMMARY:Journée découverte de la truffe - 8 février
DESCRIPTION:Café d’accueil\, cavage avec les chiens aux truffières avec Yoan Saunier\, nettoyage\, triage\, pesée des truffes\, menu truffé réalisé par notre cheffe Nathalie Thiéblemont\, accords mets et vins.
URL:http://aubussane.com/event/journee-decouverte-de-la-truffe-8-fevrier-2/
LOCATION:Aubussargues\, Route de Collorgues\, Aubussargue\, Occitanie\, 30190\, France
ATTACH;FMTTYPE=image/png:http://aubussane.com/wp-content/uploads/2024/11/Capture-decran-2024-11-23-a-18.52.54.png
ORGANIZER;CN="Yoan%20SAUNIER":MAILTO:yoan.saunier@orange.fr
END:VEVENT
BEGIN:VEVENT
DTSTART;TZID=Europe/Paris:20241123T080000
DTEND;TZID=Europe/Paris:20241123T170000
DTSTAMP:20260419T235801
CREATED:20241123T175902Z
LAST-MODIFIED:20241123T175902Z
UID:20788-1732348800-1732381200@aubussane.com
SUMMARY:Journée découverte de la truffe - 8 février
DESCRIPTION:Café d’accueil\, cavage avec les chiens aux truffières avec Yoan Saunier\, nettoyage\, triage\, pesée des truffes\, menu truffé réalisé par notre cheffe Nathalie Thiéblemont\, accords mets et vins.
URL:http://aubussane.com/event/journee-decouverte-de-la-truffe-8-fevrier/
LOCATION:Aubussargues\, Route de Collorgues\, Aubussargue\, Occitanie\, 30190\, France
ATTACH;FMTTYPE=image/png:http://aubussane.com/wp-content/uploads/2024/11/Capture-decran-2024-11-23-a-18.52.54.png
ORGANIZER;CN="Yoan%20SAUNIER":MAILTO:yoan.saunier@orange.fr
END:VEVENT
BEGIN:VEVENT
DTSTART;TZID=Europe/Paris:20240302T080000
DTEND;TZID=Europe/Paris:20240302T170000
DTSTAMP:20260419T235801
CREATED:20240125T154441Z
LAST-MODIFIED:20240125T154441Z
UID:20752-1709366400-1709398800@aubussane.com
SUMMARY:Journée initiation à la truffe 2024 en mars
DESCRIPTION:Venez vivre une expérience inédite autour de la truffe noire du Périgord. Immiscez-vous au cœur de la tradition truffière et plongez dans un voyage sensoriel unique ! \n📅 Nos dates disponibles : \n\n \nSamedi 2 mars : Ne manquez pas notre dernière journée d’initiation à la truffe avant la fin de la saison !\n\n🍽 Au programme : \n\nCafé d’accueil pour commencer la journée en douceur.\nCavage avec nos chiens : Cavez les truffes en conditions réelles. Guidés par Yoan Saunier\, partez à la découverte des truffes cachées dans le domaine\, aidés par nos trois adorables chiens truffiers. Pas d’expérience nécessaire\, juste une envie de savourer la nature tout en traquant le précieux diamant noir.\nNettoyage et canifage des truffes : Apprenez les techniques traditionnelles de brossage et canifage des truffes fraîchement récoltées.\nPesée : Admirez votre récolte du jour.\nMenu truffé : Nathalie\, notre cheffe cuisinière\, vous concoctera un délicieux repas où la truffe sera à l’honneur. Chaque plat est préparé sous vos yeux\, avec des ingrédients majoritairement issus de notre domaine. Les menus varient chaque jour selon l’inspiration de la cheffe et la cueillette du moment. Impossible de trouver plus frais\, local et bio !\nAccords mets et vins : Pour sublimer ce voyage gustatif\, profitez d’une sélection de vins harmonieusement accordés à votre menu.\n\n🌟 L’expérience est limitée à un groupe de 10 personnes afin de garantir une ambiance intime et conviviale\, propice aux échanges entre épicuriens. \nRéservation obligatoire : Contactez Yoan Saunier au 0617752156 ou rendez-vous sur notre site www.aubussane.com. \nNe manquez pas cette opportunité unique d’explorer le monde mystérieux et savoureux de la truffe ! \nTélécharger le flyer avec toutes les informations : ICI
URL:http://aubussane.com/event/journee-initiation-a-la-truffe-2024-en-mars/
LOCATION:Aubussargues\, Route de Collorgues\, Aubussargue\, Occitanie\, 30190\, France
ATTACH;FMTTYPE=image/jpeg:http://aubussane.com/wp-content/uploads/2023/11/testnoir.jpg
ORGANIZER;CN="Yoan%20SAUNIER":MAILTO:yoan.saunier@orange.fr
END:VEVENT
END:VCALENDAR