BEGIN:VCALENDAR
VERSION:2.0
PRODID:-//Aubussane - ECPv6.0.8//NONSGML v1.0//EN
CALSCALE:GREGORIAN
METHOD:PUBLISH
X-WR-CALNAME:Aubussane
X-ORIGINAL-URL:http://aubussane.com
X-WR-CALDESC:évènements pour Aubussane
REFRESH-INTERVAL;VALUE=DURATION:PT1H
X-Robots-Tag:noindex
X-PUBLISHED-TTL:PT1H
BEGIN:VTIMEZONE
TZID:Europe/Paris
BEGIN:DAYLIGHT
TZOFFSETFROM:+0100
TZOFFSETTO:+0200
TZNAME:CEST
DTSTART:20260329T010000
END:DAYLIGHT
BEGIN:STANDARD
TZOFFSETFROM:+0200
TZOFFSETTO:+0100
TZNAME:CET
DTSTART:20261025T010000
END:STANDARD
END:VTIMEZONE
BEGIN:VEVENT
DTSTART;TZID=Europe/Paris:20260201T100000
DTEND;TZID=Europe/Paris:20260201T150000
DTSTAMP:20260420T223307
CREATED:20251104T095622Z
LAST-MODIFIED:20251104T095705Z
UID:20848-1769940000-1769958000@aubussane.com
SUMMARY:Balade gourmande truffée - 1er février 2026
DESCRIPTION:Dimanche 1er février\nRDV 10h à Aubuss’âne\nPetite randonnée “découverte de notre domaine”\nRepas champêtre sous barnum\n\nAu menu : Brouillade à la Truffe noire et son accompagnement\, fromage\, dessert truffé et boissons. \n50€ / personne tout compris \nPlaces limitées à 50 pers\, sur réservation.
URL:http://aubussane.com/event/balade-gourmande-truffee/
LOCATION:Aubussargues\, Route de Collorgues\, Aubussargue\, Occitanie\, 30190\, France
ATTACH;FMTTYPE=image/png:http://aubussane.com/wp-content/uploads/2025/11/Capture-decran-2025-11-04-a-10.52.49.png
ORGANIZER;CN="Nathalie%20Thi%C3%A9blemont":MAILTO:nath.thieblemont@gmail.com
END:VEVENT
END:VCALENDAR