BEGIN:VCALENDAR
VERSION:2.0
PRODID:-//Aubussane - ECPv6.0.8//NONSGML v1.0//EN
CALSCALE:GREGORIAN
METHOD:PUBLISH
X-ORIGINAL-URL:http://aubussane.com
X-WR-CALDESC:évènements pour Aubussane
REFRESH-INTERVAL;VALUE=DURATION:PT1H
X-Robots-Tag:noindex
X-PUBLISHED-TTL:PT1H
BEGIN:VTIMEZONE
TZID:Europe/Paris
BEGIN:DAYLIGHT
TZOFFSETFROM:+0100
TZOFFSETTO:+0200
TZNAME:CEST
DTSTART:20250330T010000
END:DAYLIGHT
BEGIN:STANDARD
TZOFFSETFROM:+0200
TZOFFSETTO:+0100
TZNAME:CET
DTSTART:20251026T010000
END:STANDARD
END:VTIMEZONE
BEGIN:VEVENT
DTSTART;TZID=Europe/Paris:20251217T100000
DTEND;TZID=Europe/Paris:20251217T140000
DTSTAMP:20260423T131815
CREATED:20251104T100059Z
LAST-MODIFIED:20251104T100059Z
UID:20852-1765965600-1765980000@aubussane.com
SUMMARY:Les cours de cuisine autour de la truffe - 17 décembre 2025
DESCRIPTION:Avec la cheffe Nathalie Thieblemont\, apprenez les bases de la cuisine à la truffe\, réalisation du repas et dégustation sur place. 80€ par personne\, place limitées à 10 personnes de 10h à 14h sur réservation.
URL:http://aubussane.com/event/les-cours-de-cuisine-autour-de-la-truffe-17-decembre-2025/
LOCATION:Aubussargues\, Route de Collorgues\, Aubussargue\, Occitanie\, 30190\, France
ATTACH;FMTTYPE=image/png:http://aubussane.com/wp-content/uploads/2025/11/Capture-decran-2025-11-04-a-11.00.44.png
ORGANIZER;CN="Nathalie%20Thi%C3%A9blemont":MAILTO:nath.thieblemont@gmail.com
END:VEVENT
END:VCALENDAR